BEGIN:VCALENDAR
VERSION:2.0
PRODID:-//afro skull records - ECPv6.15.20//NONSGML v1.0//EN
CALSCALE:GREGORIAN
METHOD:PUBLISH
X-WR-CALNAME:afro skull records
X-ORIGINAL-URL:https://afro-skull.com/main
X-WR-CALDESC:afro skull records のイベント
REFRESH-INTERVAL;VALUE=DURATION:PT1H
X-Robots-Tag:noindex
X-PUBLISHED-TTL:PT1H
BEGIN:VTIMEZONE
TZID:Asia/Tokyo
BEGIN:STANDARD
TZOFFSETFROM:+0900
TZOFFSETTO:+0900
TZNAME:JST
DTSTART:20230101T000000
END:STANDARD
END:VTIMEZONE
BEGIN:VEVENT
DTSTART;TZID=Asia/Tokyo:20240107T183000
DTEND;TZID=Asia/Tokyo:20240107T183000
DTSTAMP:20260426T002502
CREATED:20231111T132054Z
LAST-MODIFIED:20231219T140230Z
UID:8885-1704652200-1704652200@afro-skull.com
SUMMARY:2024年1月7日(日) 大阪 ムジカジャポニカ『髙野哲単独行動 2024 w/ 照井仁 〜鉄人で初笑い〜』
DESCRIPTION:Ticket\n FC Ticket\n『髙野哲単独行動 2024 w/ 照井仁 〜鉄人で初笑い〜』\n2024年1月7日(日)\n大阪 ムジカジャポニカ\n出演：髙野 哲・照井 仁\n開場： 18:00／開演： 18:30\n前売 : ￥5\,000(税込・D代別) ／ 当日 : ￥5\,500(税込・D代別)\nFC先行 https://afro-skull.com/main/ds/ticket/\n一般 https://t.livepocket.jp/e/20240107osaka\n\n  \n高野哲単独行動ツアー2024 \n2024年1月7日(日) 大阪ムジカジャポニカ\nw/ 照井仁  〜鉄人で初笑い〜 \n2024年1月8日(月/祝) 名古屋 Music Bar Perch\nw/ 照井仁 〜鉄人で初笑い〜 \n2024年1月13日(土) 吉祥寺 Planet K\nw/ 照井仁  〜鉄人で初笑い〜 \n2024年2月4日(日) 調布 GINZ\nw/ 佐藤統 \n2024年2月10日(土) 名古屋 Music Bar Perch\nw/ 佐藤統 \n2024年2月11日(日) 大阪ムジカジャポニカ\nw/ 佐藤統 \n2024年2月25日(日) 調布 GINZ ※鉄人 \n2024年3月16日(土) 名古屋 Music Bar Perch\nw/ 吉田トオル 〜Preppy Boys Slippy〜 \n2024年3月17日(日) 大阪ムジカジャポニカ\nw/ 吉田トオル 〜Preppy Boys Slippy〜 \n2024年3月31日(日) 下北沢 440\nw/ 吉田トオル 〜Preppy Boys Slippy〜 \n旅はまだまだ続く！ \n【全公演共通 】\n一般受付期間\n2023年11月18日(土）10:00～ 公演日前日まで \nFC先行一次受付期間\n2023年11月11日(土)22:00 ～ 2023年11月17日(金) 22:00\n結果発表予定日　11月18日(土）予定\n二次受付期間\n2023年11月18日(土）10:00～ 公演日前日まで \n  \n tour2024全公演一般受付
URL:https://afro-skull.com/main/event/20240107/
LOCATION:大阪：ムジカジャポニカ\, 大阪府大阪市北区堂山町1-21 モンテビル2F-01号\, 530-0027\, 日本
CATEGORIES:照井仁,鉄人,高野 哲
ATTACH;FMTTYPE=image/png:https://afro-skull.com/main/wp-content/uploads/2023/11/20231111.png
END:VEVENT
BEGIN:VEVENT
DTSTART;TZID=Asia/Tokyo:20240108T183000
DTEND;TZID=Asia/Tokyo:20240108T183000
DTSTAMP:20260426T002502
CREATED:20231111T134436Z
LAST-MODIFIED:20231219T140116Z
UID:8888-1704738600-1704738600@afro-skull.com
SUMMARY:2024年1月8日(月/祝) 名古屋 Music Bar Perch『髙野哲単独行動 2024 w/ 照井仁 〜鉄人で初笑い〜』
DESCRIPTION:Ticket\n FC Ticket\n『髙野哲単独行動 2024 w/ 照井仁 〜鉄人で初笑い〜』\n2024年1月8日(月/祝)\n名古屋 Music Bar Perch\n出演：髙野 哲・照井 仁\n開場： 18:00／開演： 18:30\n前売 : ￥5\,000(税込・D代別) ／ 当日 : ￥5\,500(税込・D代別)\nFC先行 https://afro-skull.com/main/ds/ticket/\n一般 https://t.livepocket.jp/e/20240108nagoya\n\n  \n高野哲単独行動ツアー2024 \n2024年1月7日(日) 大阪ムジカジャポニカ\nw/ 照井仁  〜鉄人で初笑い〜 \n2024年1月8日(月/祝) 名古屋 Music Bar Perch\nw/ 照井仁 〜鉄人で初笑い〜 \n2024年1月13日(土) 吉祥寺 Planet K\nw/ 照井仁  〜鉄人で初笑い〜 \n2024年2月4日(日) 調布 GINZ\nw/ 佐藤統 \n2024年2月10日(土) 名古屋 Music Bar Perch\nw/ 佐藤統 \n2024年2月11日(日) 大阪ムジカジャポニカ\nw/ 佐藤統 \n2024年2月25日(日) 調布 GINZ ※鉄人 \n2024年3月16日(土) 名古屋 Music Bar Perch\nw/ 吉田トオル 〜Preppy Boys Slippy〜 \n2024年3月17日(日) 大阪ムジカジャポニカ\nw/ 吉田トオル 〜Preppy Boys Slippy〜 \n2024年3月31日(日) 下北沢 440\nw/ 吉田トオル 〜Preppy Boys Slippy〜 \n旅はまだまだ続く！ \n【全公演共通 】\n一般受付期間\n2023年11月18日(土）10:00～ 公演日前日まで \nFC先行一次受付期間\n2023年11月11日(土)22:00 ～ 2023年11月17日(金) 22:00\n結果発表予定日　11月18日(土）予定\n二次受付期間\n2023年11月18日(土）10:00～ 公演日前日まで \n  \n tour2024全公演一般受付
URL:https://afro-skull.com/main/event/20240108/
LOCATION:愛知：名古屋 Music Bar Perch\, 愛知県名古屋市中区千代田3-15-19メゾン千代田B1F\, 460-0012\, 日本
CATEGORIES:照井仁,鉄人,高野 哲
ATTACH;FMTTYPE=image/png:https://afro-skull.com/main/wp-content/uploads/2023/11/20231111.png
END:VEVENT
BEGIN:VEVENT
DTSTART;TZID=Asia/Tokyo:20240113T183000
DTEND;TZID=Asia/Tokyo:20240113T183000
DTSTAMP:20260426T002502
CREATED:20231111T135006Z
LAST-MODIFIED:20231219T140512Z
UID:8894-1705170600-1705170600@afro-skull.com
SUMMARY:2024年1月13日(土) 吉祥寺 Planet K『髙野哲単独行動 2024 w/ 照井仁 〜鉄人で初笑い〜』
DESCRIPTION:Ticket\n FC Ticket\n『髙野哲単独行動 2024 w/ 照井仁 〜鉄人で初笑い〜』\n2024年1月13日(土)\n吉祥寺 Planet K\n出演：髙野 哲・照井 仁\n開場： 18:00／開演： 18:30\n前売 : ￥5\,000(税込・D代別) ／ 当日 : ￥5\,500(税込・D代別)\nFC先行 https://afro-skull.com/main/ds/ticket/\n一般 https://t.livepocket.jp/e/20240113tokyo\n  \n高野哲単独行動ツアー2024 \n2024年1月7日(日) 大阪ムジカジャポニカ\nw/ 照井仁  〜鉄人で初笑い〜 \n2024年1月8日(月/祝) 名古屋 Music Bar Perch\nw/ 照井仁 〜鉄人で初笑い〜 \n2024年1月13日(土) 吉祥寺 Planet K\nw/ 照井仁  〜鉄人で初笑い〜 \n2024年2月4日(日) 調布 GINZ\nw/ 佐藤統 \n2024年2月10日(土) 名古屋 Music Bar Perch\nw/ 佐藤統 \n2024年2月11日(日) 大阪ムジカジャポニカ\nw/ 佐藤統 \n2024年2月25日(日) 調布 GINZ ※鉄人 \n2024年3月16日(土) 名古屋 Music Bar Perch\nw/ 吉田トオル 〜Preppy Boys Slippy〜 \n2024年3月17日(日) 大阪ムジカジャポニカ\nw/ 吉田トオル 〜Preppy Boys Slippy〜 \n2024年3月31日(日) 下北沢 440\nw/ 吉田トオル 〜Preppy Boys Slippy〜 \n旅はまだまだ続く！ \n【全公演共通 】\n一般受付期間\n2023年11月18日(土）10:00～ 公演日前日まで \nFC先行一次受付期間\n2023年11月11日(土)22:00 ～ 2023年11月17日(金) 22:00\n結果発表予定日　11月18日(土）予定\n二次受付期間\n2023年11月18日(土）10:00～ 公演日前日まで \n  \n tour2024全公演一般受付
URL:https://afro-skull.com/main/event/20240113/
LOCATION:東京：吉祥寺 Planet K\, 東京都武蔵野市吉祥寺本町1-10-4 古城会館ビル B1F\, 180-0004
CATEGORIES:照井仁,鉄人,高野 哲
ATTACH;FMTTYPE=image/png:https://afro-skull.com/main/wp-content/uploads/2023/11/20231111.png
END:VEVENT
BEGIN:VEVENT
DTSTART;TZID=Asia/Tokyo:20240204T183000
DTEND;TZID=Asia/Tokyo:20240204T183000
DTSTAMP:20260426T002502
CREATED:20231111T135157Z
LAST-MODIFIED:20231219T135954Z
UID:8896-1707071400-1707071400@afro-skull.com
SUMMARY:2024年2月4日(日) 調布 GINZ『 髙野哲単独行動 2024  w/ 佐藤統』
DESCRIPTION:Ticket\n FC Ticket\n『 髙野哲単独行動 2024 w/ 佐藤統』\n2024年2月4日(日)\n調布 GINZ\n出演：髙野 哲・佐藤 統\n開場： 18:00／開演： 18:30\n前売 : ￥5\,000(税込・D代別) ／ 当日 : ￥5\,500(税込・D代別)\nFC先行 https://afro-skull.com/main/ds/ticket/\n一般 https://t.livepocket.jp/e/20240204tokyo\n  \n高野哲単独行動ツアー2024 \n2024年1月7日(日) 大阪ムジカジャポニカ\nw/ 照井仁  〜鉄人で初笑い〜 \n2024年1月8日(月/祝) 名古屋 Music Bar Perch\nw/ 照井仁 〜鉄人で初笑い〜 \n2024年1月13日(土) 吉祥寺 Planet K\nw/ 照井仁  〜鉄人で初笑い〜 \n2024年2月4日(日) 調布 GINZ\nw/ 佐藤統 \n2024年2月10日(土) 名古屋 Music Bar Perch\nw/ 佐藤統 \n2024年2月11日(日) 大阪ムジカジャポニカ\nw/ 佐藤統 \n2024年2月25日(日) 調布 GINZ ※鉄人 \n2024年3月16日(土) 名古屋 Music Bar Perch\nw/ 吉田トオル 〜Preppy Boys Slippy〜 \n2024年3月17日(日) 大阪ムジカジャポニカ\nw/ 吉田トオル 〜Preppy Boys Slippy〜 \n2024年3月31日(日) 下北沢 440\nw/ 吉田トオル 〜Preppy Boys Slippy〜 \n旅はまだまだ続く！ \n【全公演共通 】\n一般受付期間\n2023年11月18日(土）10:00～ 公演日前日まで \nFC先行一次受付期間\n2023年11月11日(土)22:00 ～ 2023年11月17日(金) 22:00\n結果発表予定日　11月18日(土）予定\n二次受付期間\n2023年11月18日(土）10:00～ 公演日前日まで \n  \n tour2024全公演一般受付
URL:https://afro-skull.com/main/event/20240204/
LOCATION:東京：調布GINZ\, 東京都調布市小島町2-25-8 フジヨシ小島町ビルB1F\, 182-0026\, 日本
CATEGORIES:佐藤 統,高野 哲
ATTACH;FMTTYPE=image/png:https://afro-skull.com/main/wp-content/uploads/2023/11/20231111.png
END:VEVENT
BEGIN:VEVENT
DTSTART;TZID=Asia/Tokyo:20240210T183000
DTEND;TZID=Asia/Tokyo:20240210T183000
DTSTAMP:20260426T002502
CREATED:20231111T135359Z
LAST-MODIFIED:20231219T135714Z
UID:8898-1707589800-1707589800@afro-skull.com
SUMMARY:2024年2月10日(土) 名古屋 Music Bar Perch『 髙野哲単独行動 2024  w/ 佐藤統』
DESCRIPTION:Ticket\n FC Ticket\n『 髙野哲単独行動 2024 w/ 佐藤統』\n2024年2月10日(土)\n名古屋 Music Bar Perch\n出演：髙野 哲・佐藤 統\n開場： 18:00／開演： 18:30\n前売 : ￥5\,000（税込・D代別） ／ 当日 : ￥5\,500（税込・D代別）\nFC先行 https://afro-skull.com/main/ds/ticket/\n一般 https://t.livepocket.jp/e/20240210nagoya\n  \n高野哲単独行動ツアー2024 \n2024年1月7日(日) 大阪ムジカジャポニカ\nw/ 照井仁  〜鉄人で初笑い〜 \n2024年1月8日(月/祝) 名古屋 Music Bar Perch\nw/ 照井仁 〜鉄人で初笑い〜 \n2024年1月13日(土) 吉祥寺 Planet K\nw/ 照井仁  〜鉄人で初笑い〜 \n2024年2月4日(日) 調布 GINZ\nw/ 佐藤統 \n2024年2月10日(土) 名古屋 Music Bar Perch\nw/ 佐藤統 \n2024年2月11日(日) 大阪ムジカジャポニカ\nw/ 佐藤統 \n2024年2月25日(日) 調布 GINZ ※鉄人 \n2024年3月16日(土) 名古屋 Music Bar Perch\nw/ 吉田トオル 〜Preppy Boys Slippy〜 \n2024年3月17日(日) 大阪ムジカジャポニカ\nw/ 吉田トオル 〜Preppy Boys Slippy〜 \n2024年3月31日(日) 下北沢 440\nw/ 吉田トオル 〜Preppy Boys Slippy〜 \n旅はまだまだ続く！ \n【全公演共通 】\n一般受付期間\n2023年11月18日(土）10:00～ 公演日前日まで \nFC先行一次受付期間\n2023年11月11日(土)22:00 ～ 2023年11月17日(金) 22:00\n結果発表予定日　11月18日(土）予定\n二次受付期間\n2023年11月18日(土）10:00～ 公演日前日まで \n  \n tour2024全公演一般受付
URL:https://afro-skull.com/main/event/20240210/
LOCATION:愛知：名古屋 Music Bar Perch\, 愛知県名古屋市中区千代田3-15-19メゾン千代田B1F\, 460-0012\, 日本
CATEGORIES:佐藤 統,高野 哲
ATTACH;FMTTYPE=image/png:https://afro-skull.com/main/wp-content/uploads/2023/11/20231111.png
END:VEVENT
BEGIN:VEVENT
DTSTART;TZID=Asia/Tokyo:20240211T183000
DTEND;TZID=Asia/Tokyo:20240211T183000
DTSTAMP:20260426T002502
CREATED:20231111T135520Z
LAST-MODIFIED:20231219T135550Z
UID:8904-1707676200-1707676200@afro-skull.com
SUMMARY:2024年2月11日(日) 大阪 ムジカジャポニカ『 髙野哲単独行動 2024  w/ 佐藤統』
DESCRIPTION:Ticket\n FC Ticket\n『 髙野哲単独行動 2024　w/ 佐藤統 』\n2024年2月11日(日)\n大阪 ムジカジャポニカ\n出演：髙野 哲・佐藤 統\n開場： 18:00／開演： 18:30\n前売 : ￥5\,000(税込・D代別) ／ 当日 : ￥5\,500(税込・D代別)\nFC先行 https://afro-skull.com/main/ds/ticket/\n一般 https://t.livepocket.jp/e/20240211osaka\n  \n高野哲単独行動ツアー2024 \n2024年1月7日(日) 大阪ムジカジャポニカ\nw/ 照井仁  〜鉄人で初笑い〜 \n2024年1月8日(月/祝) 名古屋 Music Bar Perch\nw/ 照井仁 〜鉄人で初笑い〜 \n2024年1月13日(土) 吉祥寺 Planet K\nw/ 照井仁  〜鉄人で初笑い〜 \n2024年2月4日(日) 調布 GINZ\nw/ 佐藤統 \n2024年2月10日(土) 名古屋 Music Bar Perch\nw/ 佐藤統 \n2024年2月11日(日) 大阪ムジカジャポニカ\nw/ 佐藤統 \n2024年2月25日(日) 調布 GINZ ※鉄人 \n2024年3月16日(土) 名古屋 Music Bar Perch\nw/ 吉田トオル 〜Preppy Boys Slippy〜 \n2024年3月17日(日) 大阪ムジカジャポニカ\nw/ 吉田トオル 〜Preppy Boys Slippy〜 \n2024年3月31日(日) 下北沢 440\nw/ 吉田トオル 〜Preppy Boys Slippy〜 \n旅はまだまだ続く！ \n【全公演共通 】\n一般受付期間\n2023年11月18日(土）10:00～ 公演日前日まで \nFC先行一次受付期間\n2023年11月11日(土)22:00 ～ 2023年11月17日(金) 22:00\n結果発表予定日　11月18日(土）予定\n二次受付期間\n2023年11月18日(土）10:00～ 公演日前日まで \n  \n tour2024全公演一般受付
URL:https://afro-skull.com/main/event/20240211/
LOCATION:大阪：ムジカジャポニカ\, 大阪府大阪市北区堂山町1-21 モンテビル2F-01号\, 530-0027\, 日本
CATEGORIES:佐藤 統,高野 哲
ATTACH;FMTTYPE=image/png:https://afro-skull.com/main/wp-content/uploads/2023/11/20231111.png
END:VEVENT
BEGIN:VEVENT
DTSTART;TZID=Asia/Tokyo:20240225T183000
DTEND;TZID=Asia/Tokyo:20240225T183000
DTSTAMP:20260426T002502
CREATED:20231112T054305Z
LAST-MODIFIED:20231219T135320Z
UID:8950-1708885800-1708885800@afro-skull.com
SUMMARY:2024年2月25日(日) 調布 GINZ『 鉄人現る! Vol.27 』
DESCRIPTION:Ticket\n FC Ticket\n  \n『 鉄人現る! Vol.27』\n2024年2月25日(日)\n調布 GINZ\n開場： 18:00／開演： 18:30\n前売 : ￥5\,000(税込・D代別) ／ 当日 : ￥5\,500(税込・D代別)\nFC先行 https://afro-skull.com/main/ds/ticket/\n一般 https://t.livepocket.jp/e/20240225tetsujin \n  \n高野哲単独行動ツアー2024 \n2024年1月7日(日) 大阪ムジカジャポニカ\nw/ 照井仁  〜鉄人で初笑い〜 \n2024年1月8日(月/祝) 名古屋 Music Bar Perch\nw/ 照井仁 〜鉄人で初笑い〜 \n2024年1月13日(土) 吉祥寺 Planet K\nw/ 照井仁  〜鉄人で初笑い〜 \n2024年2月4日(日) 調布 GINZ\nw/ 佐藤統 \n2024年2月10日(土) 名古屋 Music Bar Perch\nw/ 佐藤統 \n2024年2月11日(日) 大阪ムジカジャポニカ\nw/ 佐藤統 \n2024年2月25日(日) 調布 GINZ ※鉄人 \n2024年3月16日(土) 名古屋 Music Bar Perch\nw/ 吉田トオル 〜Preppy Boys Slippy〜 \n2024年3月17日(日) 大阪ムジカジャポニカ\nw/ 吉田トオル 〜Preppy Boys Slippy〜 \n2024年3月31日(日) 下北沢 440\nw/ 吉田トオル 〜Preppy Boys Slippy〜 \n旅はまだまだ続く！ \n【全公演共通 】\n一般受付期間\n2023年11月18日(土）10:00～ 公演日前日まで \nFC先行一次受付期間\n2023年11月11日(土)22:00 ～ 2023年11月17日(金) 22:00\n結果発表予定日　11月18日(土）予定\n二次受付期間\n2023年11月18日(土）10:00～ 公演日前日まで \n  \n tour2024全公演一般受付
URL:https://afro-skull.com/main/event/20240225/
LOCATION:東京：調布GINZ\, 東京都調布市小島町2-25-8 フジヨシ小島町ビルB1F\, 182-0026\, 日本
CATEGORIES:照井仁,鉄人,高野 哲
ATTACH;FMTTYPE=image/png:https://afro-skull.com/main/wp-content/uploads/2023/11/20231111_2.png
END:VEVENT
BEGIN:VEVENT
DTSTART;TZID=Asia/Tokyo:20240309T183000
DTEND;TZID=Asia/Tokyo:20240309T183000
DTSTAMP:20260426T002502
CREATED:20240204T131024Z
LAST-MODIFIED:20240208T104251Z
UID:9564-1710009000-1710009000@afro-skull.com
SUMMARY:2024年3月9日（土）盛岡 BeOneBox高野哲単独行動2024  w/ 吉田トオル 〜Preppy Boys Slippy〜『 哲とトオルのヘイ！タクシー！』
DESCRIPTION:Ticket\n FC Ticket\n『 哲とトオルのヘイ！タクシー！』 \n2024年3月9日(土)\n盛岡 BeOneBox\n出演：髙野 哲・吉田トオル・TAXI \n開場： 18:00／開演： 18:30\n前売券5\,000円（+D代）／当日券5\,500円（+D代）\n※当日精算 \n会員先行受付は必ず下記の会員限定サイトよりお申込みください。\nhttps://afro-skull.com/main/ds/ticket/ \n一般受付URL https://t.livepocket.jp/e/20240309morioka \n一次受付期間(一般・会員共通）\n2024年2月4日(日)21:00 ～ 2024年2月10日(土) 22:00\n結果発表予定日　2月11日(日）予定\n二次受付期間(一般・会員共通）\n2024年2月11日(日）10:00～ 公演日前日まで \n＿＿＿＿＿＿＿＿ \nTHE GREAT SPIRITS\n〜今年はグレスピとクロスオーバーして無事帰宅部〜\n2024年3月10日(日)\n盛岡 BeOneBox\n出演: 髙野哲/松本哲也/照井仁\n盛岡CROSSOVER’S/ROSALIND(Acostic)/MIMI⭐︎TATA\n \n時間: 開場17:30 / 開演18:00\n前売5.000円/当日5.500円(+D)\n2/4(日)21:00より受付開始\nチケットサイト& Diningわかんたんか店頭にて\nhttps://t.livepocket.jp/e/thegreatspirits2024-3-10 \n※本公演の収益&募金は石川県「令和6年能登半島地震」災害支援に活用させて頂きます。\n※会員受付はございません。
URL:https://afro-skull.com/main/event/20240309/
LOCATION:岩手：盛岡 BeOneBox\, 岩手県盛岡市菜園2-6-6 三栄ビルB1F\, 020-0024\, 日本
CATEGORIES:Preppy Boys Slippy,吉田トオル,高野 哲
ATTACH;FMTTYPE=image/jpeg:https://afro-skull.com/main/wp-content/uploads/2024/02/IMG_7926.jpg
END:VEVENT
BEGIN:VEVENT
DTSTART;TZID=Asia/Tokyo:20240316T183000
DTEND;TZID=Asia/Tokyo:20240316T183000
DTSTAMP:20260426T002502
CREATED:20231111T135718Z
LAST-MODIFIED:20240308T113011Z
UID:8906-1710613800-1710613800@afro-skull.com
SUMMARY:2024年3月16日(土) 名古屋 Music Bar Perch『 髙野哲単独行動 2024 w/ 吉田トオル 〜Preppy Boys Slippy〜』
DESCRIPTION:Ticket\n FC Ticket\n『 髙野哲単独行動 2024 w/ 吉田トオル 〜Preppy Boys Slippy〜』\n2024年3月16日(土)\n名古屋 Music Bar Perch\n出演：髙野 哲・吉田 トオル\n開場： 18:00／開演： 18:30\n前売 : ￥5\,000(税込・D代別) ／ 当日 : ￥5\,500(税込・D代別)\nFC先行 https://afro-skull.com/main/ds/ticket/\n一般 https://t.livepocket.jp/e/20240316nagoya\n  \n高野哲単独行動ツアー2024 \n2024年1月7日(日) 大阪ムジカジャポニカ\nw/ 照井仁  〜鉄人で初笑い〜 \n2024年1月8日(月/祝) 名古屋 Music Bar Perch\nw/ 照井仁 〜鉄人で初笑い〜 \n2024年1月13日(土) 吉祥寺 Planet K\nw/ 照井仁  〜鉄人で初笑い〜 \n2024年2月4日(日) 調布 GINZ\nw/ 佐藤統 \n2024年2月10日(土) 名古屋 Music Bar Perch\nw/ 佐藤統 \n2024年2月11日(日) 大阪ムジカジャポニカ\nw/ 佐藤統 \n2024年2月25日(日) 調布 GINZ ※鉄人 \n2024年3月16日(土) 名古屋 Music Bar Perch\nw/ 吉田トオル 〜Preppy Boys Slippy〜 \n2024年3月17日(日) 大阪ムジカジャポニカ\nw/ 吉田トオル 〜Preppy Boys Slippy〜 \n2024年3月31日(日) 下北沢 440\nw/ 吉田トオル・ 三輪紫乃 Bad Dreams Come True \n旅はまだまだ続く！ \n【全公演共通 】\n一般受付期間\n2023年11月18日(土）10:00～ 公演日前日まで \nFC先行一次受付期間\n2023年11月11日(土)22:00 ～ 2023年11月17日(金) 22:00\n結果発表予定日　11月18日(土）予定\n二次受付期間\n2023年11月18日(土）10:00～ 公演日前日まで \n  \n tour2024全公演一般受付
URL:https://afro-skull.com/main/event/20240316/
LOCATION:愛知：名古屋 Music Bar Perch\, 愛知県名古屋市中区千代田3-15-19メゾン千代田B1F\, 460-0012\, 日本
CATEGORIES:Preppy Boys Slippy,吉田トオル,高野 哲
ATTACH;FMTTYPE=image/png:https://afro-skull.com/main/wp-content/uploads/2023/11/20231111.png
END:VEVENT
BEGIN:VEVENT
DTSTART;TZID=Asia/Tokyo:20240317T183000
DTEND;TZID=Asia/Tokyo:20240317T183000
DTSTAMP:20260426T002502
CREATED:20231111T135938Z
LAST-MODIFIED:20240308T113043Z
UID:8908-1710700200-1710700200@afro-skull.com
SUMMARY:2024年3月17日(日) 大阪 ムジカジャポニカ『 髙野哲単独行動 2024 w/ 吉田トオル 〜Preppy Boys Slippy〜』
DESCRIPTION:Ticket\n FC Ticket\n『 髙野哲単独行動 2024 w/ 吉田トオル 〜Preppy Boys Slippy〜』\n2024年3月17日(日)\n大阪 ムジカジャポニカ\n出演：髙野 哲・吉田 トオル\n開場： 18:00／開演： 18:30\n前売 : ￥5\,000(税込・D代別) ／ 当日 : ￥5\,500(税込・D代別)\nFC先行 https://afro-skull.com/main/ds/ticket/\n一般 https://t.livepocket.jp/e/20240317osaka\n  \n高野哲単独行動ツアー2024 \n2024年1月7日(日) 大阪ムジカジャポニカ\nw/ 照井仁  〜鉄人で初笑い〜 \n2024年1月8日(月/祝) 名古屋 Music Bar Perch\nw/ 照井仁 〜鉄人で初笑い〜 \n2024年1月13日(土) 吉祥寺 Planet K\nw/ 照井仁  〜鉄人で初笑い〜 \n2024年2月4日(日) 調布 GINZ\nw/ 佐藤統 \n2024年2月10日(土) 名古屋 Music Bar Perch\nw/ 佐藤統 \n2024年2月11日(日) 大阪ムジカジャポニカ\nw/ 佐藤統 \n2024年2月25日(日) 調布 GINZ ※鉄人 \n2024年3月16日(土) 名古屋 Music Bar Perch\nw/ 吉田トオル 〜Preppy Boys Slippy〜 \n2024年3月17日(日) 大阪ムジカジャポニカ\nw/ 吉田トオル 〜Preppy Boys Slippy〜 \n2024年3月31日(日) 下北沢 440\nw/ 吉田トオル・ 三輪紫乃 Bad Dreams Come True \n旅はまだまだ続く！ \n【全公演共通 】\n一般受付期間\n2023年11月18日(土）10:00～ 公演日前日まで \nFC先行一次受付期間\n2023年11月11日(土)22:00 ～ 2023年11月17日(金) 22:00\n結果発表予定日　11月18日(土）予定\n二次受付期間\n2023年11月18日(土）10:00～ 公演日前日まで \n  \n tour2024全公演一般受付
URL:https://afro-skull.com/main/event/20240317/
LOCATION:大阪：ムジカジャポニカ\, 大阪府大阪市北区堂山町1-21 モンテビル2F-01号\, 530-0027\, 日本
CATEGORIES:Preppy Boys Slippy,吉田トオル,高野 哲
ATTACH;FMTTYPE=image/png:https://afro-skull.com/main/wp-content/uploads/2023/11/20231111.png
END:VEVENT
BEGIN:VEVENT
DTSTART;TZID=Asia/Tokyo:20240331T183000
DTEND;TZID=Asia/Tokyo:20240331T183000
DTSTAMP:20260426T002502
CREATED:20231111T140107Z
LAST-MODIFIED:20240308T112935Z
UID:8910-1711909800-1711909800@afro-skull.com
SUMMARY:2024年3月31日(日) 下北沢 440『 髙野哲単独行動 2024 w/ 吉田トオル・ 三輪紫乃 Bad Dreams Come True』
DESCRIPTION:Ticket\n FC Ticket\n『 髙野哲単独行動 2024 w/ 吉田トオル・ 三輪紫乃 Bad Dreams Come True』\n2024年3月31日(日)\n下北沢 440\n出演：髙野 哲・吉田 トオル・三輪紫乃\n開場： 18:00／開演： 18:30\n前売 : ￥5\,000(税込・D代別) ／ 当日 : ￥5\,500(税込・D代別)\nFC先行 https://afro-skull.com/main/ds/ticket/\n一般 https://t.livepocket.jp/e/20230331tokyo\n  \n高野哲単独行動ツアー2024 \n2024年1月7日(日) 大阪ムジカジャポニカ\nw/ 照井仁  〜鉄人で初笑い〜 \n2024年1月8日(月/祝) 名古屋 Music Bar Perch\nw/ 照井仁 〜鉄人で初笑い〜 \n2024年1月13日(土) 吉祥寺 Planet K\nw/ 照井仁  〜鉄人で初笑い〜 \n2024年2月4日(日) 調布 GINZ\nw/ 佐藤統 \n2024年2月10日(土) 名古屋 Music Bar Perch\nw/ 佐藤統 \n2024年2月11日(日) 大阪ムジカジャポニカ\nw/ 佐藤統 \n2024年2月25日(日) 調布 GINZ ※鉄人 \n2024年3月16日(土) 名古屋 Music Bar Perch\nw/ 吉田トオル 〜Preppy Boys Slippy〜 \n2024年3月17日(日) 大阪ムジカジャポニカ\nw/ 吉田トオル 〜Preppy Boys Slippy〜 \n2024年3月31日(日) 下北沢 440\nw/ 吉田トオル・ 三輪紫乃 Bad Dreams Come True \n旅はまだまだ続く！ \n【全公演共通 】\n一般受付期間\n2023年11月18日(土）10:00～ 公演日前日まで \nFC先行一次受付期間\n2023年11月11日(土)22:00 ～ 2023年11月17日(金) 22:00\n結果発表予定日　11月18日(土）予定\n二次受付期間\n2023年11月18日(土）10:00～ 公演日前日まで \n  \n tour2024全公演一般受付
URL:https://afro-skull.com/main/event/20240331/
LOCATION:東京：下北沢440\, 東京都世田谷区代沢5-29-15 SYビル1F\, 155-0032\, 日本
CATEGORIES:Preppy Boys Slippy,吉田トオル,高野 哲
ATTACH;FMTTYPE=image/png:https://afro-skull.com/main/wp-content/uploads/2024/03/20240308.png
END:VEVENT
END:VCALENDAR