BEGIN:VCALENDAR
VERSION:2.0
PRODID:-//afro skull records - ECPv6.15.20//NONSGML v1.0//EN
CALSCALE:GREGORIAN
METHOD:PUBLISH
X-WR-CALNAME:afro skull records
X-ORIGINAL-URL:https://afro-skull.com/main
X-WR-CALDESC:afro skull records のイベント
REFRESH-INTERVAL;VALUE=DURATION:PT1H
X-Robots-Tag:noindex
X-PUBLISHED-TTL:PT1H
BEGIN:VTIMEZONE
TZID:Asia/Tokyo
BEGIN:STANDARD
TZOFFSETFROM:+0900
TZOFFSETTO:+0900
TZNAME:JST
DTSTART:20210101T000000
END:STANDARD
END:VTIMEZONE
BEGIN:VEVENT
DTSTART;TZID=Asia/Tokyo:20220424T183000
DTEND;TZID=Asia/Tokyo:20220424T183000
DTSTAMP:20260420T211012
CREATED:20220312T030055Z
LAST-MODIFIED:20220416T130119Z
UID:2704-1650825000-1650825000@afro-skull.com
SUMMARY:2022年4月24日(日) 名古屋 ell.SIZE DISCO VOLANTE tour2022 未確認飛行物体opening act : 鉄人に勝るがトオル
DESCRIPTION:一般Ticket\n FC Ticket\nDISCO VOLANTE tour2022\n未確認飛行物体\n2022年4月24日（日） 名古屋 ell.SIZE\nopening act : 鉄人に勝るがトオル\n\n開場 18:00 / 開演 18:30\n料金 ¥5\,000(D別途)\n出演 : Disco Volante \n一般発売：2022年3月20日（土）12:00～ \nプレイガイド：TICKET FROG\n 受付URL：https://ticket-frog.com/e/dv_tour2022sp \n（問）ADN STATE：050-3532-5600\n※FC会員は3月12日12時より先行受付あり\nDREAD SQUAD先行受付
URL:https://afro-skull.com/main/event/20220424/
LOCATION:愛知：名古屋 ell.SIZE\, 愛知県名古屋市中区大須２丁目１０−３５\, 460-0011\, 日本
CATEGORIES:DISCO VOLANTE,吉田トオル,小林 勝,照井仁,高野 哲
END:VEVENT
BEGIN:VEVENT
DTSTART;TZID=Asia/Tokyo:20220422T190000
DTEND;TZID=Asia/Tokyo:20220422T193000
DTSTAMP:20260420T211012
CREATED:20220312T030053Z
LAST-MODIFIED:20220416T130106Z
UID:2702-1650654000-1650655800@afro-skull.com
SUMMARY:2022年4月22日(金) 大阪 CONPASS DISCO VOLANTE tour2022 未確認飛行物体opening act : 鉄人に勝るがトオル
DESCRIPTION:一般Ticket\n FC Ticket\nDISCO VOLANTE tour2022\n未確認飛行物体\n2022年4月22日（金）大阪 CONPASS\nopening act : 鉄人に勝るがトオル\n\n開場 18:30 / 開演 19:00\n料金 ¥5\,000(D別途)\n出演 : Disco Volante \n一般発売：2022年3月20日（土）12:00～ \nプレイガイド：TICKET FROG\n 受付URL：https://ticket-frog.com/e/dv_tour2022sp \n（問）ADN STATE：050-3532-5600\n※FC会員は3月12日12時より先行受付あり\nDREAD SQUAD先行受付
URL:https://afro-skull.com/main/event/20220422/
LOCATION:大阪：LIVE SPACE CONPASS\, 大阪府大阪市中央区東心斎橋1-12-20 心斎橋ダイワビルB1F\, 542-0083\, 日本
CATEGORIES:DISCO VOLANTE,吉田トオル,小林 勝,照井仁,高野 哲
END:VEVENT
BEGIN:VEVENT
DTSTART;TZID=Asia/Tokyo:20220417T193000
DTEND;TZID=Asia/Tokyo:20220417T193000
DTSTAMP:20260420T211012
CREATED:20220312T030003Z
LAST-MODIFIED:20220416T130110Z
UID:2691-1650223800-1650223800@afro-skull.com
SUMMARY:2022年4月17日(日) 東京 高円寺HIGH DISCO VOLANTE tour2022 未確認飛行物体opening act : 鉄人に勝るがトオル
DESCRIPTION:一般Ticket\n FC Ticket\nDISCO VOLANTE tour2022\n未確認飛行物体\n2022年4月17日（日）東京 高円寺HIGH\nopening act : 鉄人に勝るがトオル\n\n開場 19:00 / 開演 19:30\n料金 ¥5\,000(D別途)\n出演 : Disco Volante \n一般発売：2022年3月20日（土）12:00～ \nプレイガイド：TICKET FROG\n 受付URL：https://ticket-frog.com/e/dv_tour2022sp \n（問）ADN STATE：050-3532-5600\n※FC会員は3月12日12時より先行受付あり\nDREAD SQUAD先行受付
URL:https://afro-skull.com/main/event/202204017/
LOCATION:東京：高円寺HIGH\, 東京都杉並区高円寺南４丁目３０−１\, 166-0003
CATEGORIES:DISCO VOLANTE,吉田トオル,小林 勝,照井仁,高野 哲
END:VEVENT
BEGIN:VEVENT
DTSTART;TZID=Asia/Tokyo:20220401T190000
DTEND;TZID=Asia/Tokyo:20220401T190000
DTSTAMP:20260420T211012
CREATED:20220226T130040Z
LAST-MODIFIED:20220226T132145Z
UID:2737-1648839600-1648839600@afro-skull.com
SUMMARY:2022年4月1日(金)東京 吉祥寺 Planet KDREAD SQUAD会員限定ライブDISCO VOLANTE受付スタート！
DESCRIPTION:Ticket\nDREAD SQUAD限定ライブ\n2022年4月1日（金）東京 吉祥寺 Planet K\n出演 : Disco Volante\n開場： 18:30／開演： 19:00 \n会場チケット代 6\,000円（Drink別途）\n会員１名様につき１枚\nメンバーデザインオリジナルグッズ付きチケット！！\n（これまでのグッズ例：Tシャツ・バスタオル・ネックウォーマー・ネックストラップなど）\nFCサイト内、申込ボタンより専用サイトでお申し込みください。\nFCサイトからのリンクからのみご購入いただけます。\nFCサイトへは専用パスワードが必要です。\nご入会はこちらから \n配信チケット : 3\,000円 \n受付期間：2022年2月26日(土)22:00〜3月2日(水)23:59\n当落発表日：3月4日(金)\nFC2次（先着） 3/5(土)1200〜\n※第一次受付期間が通常より短くなっております。\n※抽選結果と共に整理番号をお知らせします。\n※一次受付締め切り以降は3/5〜二次受付として順次先着順に整理番号を即時発行致します。\n※期間内でも規定枚数に達し次第、受付を締め切らせて頂きますのでご了承ください。\n※一次受付で規定枚数に達した場合、二次受付を行わない場合もございます。
URL:https://afro-skull.com/main/event/20220401/
LOCATION:東京：吉祥寺 Planet K\, 東京都武蔵野市吉祥寺本町1-10-4 古城会館ビル B1F\, 180-0004
CATEGORIES:DISCO VOLANTE,DREAD SQUAD会員限定,吉田トオル,小林 勝,照井仁,高野 哲
END:VEVENT
END:VCALENDAR